BEGIN:VCALENDAR
VERSION:2.0
PRODID:-//databrackets - ECPv6.15.20//NONSGML v1.0//EN
CALSCALE:GREGORIAN
METHOD:PUBLISH
X-WR-CALNAME:databrackets
X-ORIGINAL-URL:https://databrackets.com
X-WR-CALDESC:Events for databrackets
REFRESH-INTERVAL;VALUE=DURATION:PT1H
X-Robots-Tag:noindex
X-PUBLISHED-TTL:PT1H
BEGIN:VTIMEZONE
TZID:America/New_York
BEGIN:DAYLIGHT
TZOFFSETFROM:-0500
TZOFFSETTO:-0400
TZNAME:EDT
DTSTART:20140309T070000
END:DAYLIGHT
BEGIN:STANDARD
TZOFFSETFROM:-0400
TZOFFSETTO:-0500
TZNAME:EST
DTSTART:20141102T060000
END:STANDARD
BEGIN:DAYLIGHT
TZOFFSETFROM:-0500
TZOFFSETTO:-0400
TZNAME:EDT
DTSTART:20150308T070000
END:DAYLIGHT
BEGIN:STANDARD
TZOFFSETFROM:-0400
TZOFFSETTO:-0500
TZNAME:EST
DTSTART:20151101T060000
END:STANDARD
BEGIN:DAYLIGHT
TZOFFSETFROM:-0500
TZOFFSETTO:-0400
TZNAME:EDT
DTSTART:20160313T070000
END:DAYLIGHT
BEGIN:STANDARD
TZOFFSETFROM:-0400
TZOFFSETTO:-0500
TZNAME:EST
DTSTART:20161106T060000
END:STANDARD
BEGIN:DAYLIGHT
TZOFFSETFROM:-0500
TZOFFSETTO:-0400
TZNAME:EDT
DTSTART:20170312T070000
END:DAYLIGHT
BEGIN:STANDARD
TZOFFSETFROM:-0400
TZOFFSETTO:-0500
TZNAME:EST
DTSTART:20171105T060000
END:STANDARD
BEGIN:DAYLIGHT
TZOFFSETFROM:-0500
TZOFFSETTO:-0400
TZNAME:EDT
DTSTART:20180311T070000
END:DAYLIGHT
BEGIN:STANDARD
TZOFFSETFROM:-0400
TZOFFSETTO:-0500
TZNAME:EST
DTSTART:20181104T060000
END:STANDARD
BEGIN:DAYLIGHT
TZOFFSETFROM:-0500
TZOFFSETTO:-0400
TZNAME:EDT
DTSTART:20190310T070000
END:DAYLIGHT
BEGIN:STANDARD
TZOFFSETFROM:-0400
TZOFFSETTO:-0500
TZNAME:EST
DTSTART:20191103T060000
END:STANDARD
BEGIN:DAYLIGHT
TZOFFSETFROM:-0500
TZOFFSETTO:-0400
TZNAME:EDT
DTSTART:20200308T070000
END:DAYLIGHT
BEGIN:STANDARD
TZOFFSETFROM:-0400
TZOFFSETTO:-0500
TZNAME:EST
DTSTART:20201101T060000
END:STANDARD
END:VTIMEZONE
BEGIN:VEVENT
DTSTART;TZID=America/New_York:20190313T130000
DTEND;TZID=America/New_York:20190313T140000
DTSTAMP:20260420T175229
CREATED:20190305T044652Z
LAST-MODIFIED:20260206T075331Z
UID:46909-1552482000-1552485600@databrackets.com
SUMMARY:OSHA Assessment for Healthcare Organizations
DESCRIPTION:OSHA’s Blood Borne Pathogens standard prescribes safeguards to protect workers against the health hazards from exposure to blood and other potentially infectious materials and to reduce their risk from this exposure. Implementation of this standard will not only prevent Hepatitis B cases but will also significantly reduce the risk of workers contracting AIDS\, Hepatitis C or other Blood Borne Diseases. \nOSHA’s updated record keeping rule expands the list of severe injuries that all employers must report to OSHA. Establishments located in states under Federal OSHA jurisdiction must begin to comply with the new requirements on January 1\, 2015. Establishments located in states that operate their own safety and health programs should check with their state plan for the implementation date of the new requirements. \nAttend our free\, live 45-minute webinar to learn about how OSHA assessments can help your organization about occupational safety requirements.
URL:https://databrackets.com/event/osha-assessment-for-healthcare-organizations/
LOCATION:Virtual
CATEGORIES:Webinars
ATTACH;FMTTYPE=image/jpeg:https://databrackets.com/wp-content/uploads/2022/02/OSHA-Assessment-mar-13.jpeg
ORGANIZER;CN="EHR 2.0":MAILTO:info@ehr20.com
END:VEVENT
BEGIN:VEVENT
DTSTART;TZID=America/New_York:20190228T130000
DTEND;TZID=America/New_York:20190228T140000
DTSTAMP:20260420T175229
CREATED:20190214T043827Z
LAST-MODIFIED:20260206T075054Z
UID:46903-1551358800-1551362400@databrackets.com
SUMMARY:MIPS/MACRA Security Risk Assessment Requirements for Attestation
DESCRIPTION:The primary purpose of security risk analysis for MIPS/MACRA is to identify key technical vulnerabilities in the electronic Protected Health Information (ePHI) and EHR systems environments.  In order to implement appropriate technical controls\, eligible professionals and hospitals need to conduct a security risk analysis in accordance with the requirements under HIPAA security rule 45 CFR 164.308(a)(1)\, apply security updates as necessary\, and correct identified security deficiencies as part of their risk management process before MU/MIPS attestation deadline. \nThe Office of the National Coordinator for Health Information Technology (ONC) recognizes that conducting a risk assessment can be a challenging task which requires outside assistance. \nAttend our free\, live 50-minute webinar to learn about how to prepare and attest to MIPS/MACRA Security Risk Assessment requirements. \n \n 
URL:https://databrackets.com/event/mips-macra-security-risk-assessment-requirements/
LOCATION:Virtual
CATEGORIES:Webinars
ATTACH;FMTTYPE=image/jpeg:https://databrackets.com/wp-content/uploads/2022/02/MIPS_MACRA-feb-28.jpg
ORGANIZER;CN="EHR 2.0":MAILTO:info@ehr20.com
END:VEVENT
BEGIN:VEVENT
DTSTART;TZID=America/New_York:20190213T130000
DTEND;TZID=America/New_York:20190213T140000
DTSTAMP:20260420T175229
CREATED:20190113T043229Z
LAST-MODIFIED:20220210T082730Z
UID:46899-1550062800-1550066400@databrackets.com
SUMMARY:SOC 2 Requirements and Certifications
DESCRIPTION:Companies in a wide range of industries face growing market pressure to increase their competitive edge and prove the quality of their controls. \nA SOC report (formerly SAS 70) demonstrates to your clients a commitment to internal controls by providing third-party attestation to the reliability of the design\, implementation\, and operating effectiveness of your organization’s controls. An additional benefit of a SOC report is a reduced impact on your internal resources by minimizing the need for external audits.  Join our 50-minute webinar to learn more about increasingly popular SOC 2 certification. \n \n 
URL:https://databrackets.com/event/soc-2-type-2-audit/
LOCATION:Virtual
CATEGORIES:Webinars
ATTACH;FMTTYPE=image/jpeg:https://databrackets.com/wp-content/uploads/2022/02/SOC2-feb-13.jpeg
ORGANIZER;CN="EHR 2.0":MAILTO:info@ehr20.com
END:VEVENT
BEGIN:VEVENT
DTSTART;TZID=America/New_York:20180613T130000
DTEND;TZID=America/New_York:20180613T140000
DTSTAMP:20260420T175229
CREATED:20180613T110336Z
LAST-MODIFIED:20260206T074210Z
UID:48958-1528894800-1528898400@databrackets.com
SUMMARY:HIPAA Hardening for G-Suite
DESCRIPTION:HIPAA Act applies to most doctors’ offices\, hospitals\, healthcare insurance companies\, and other organization that may have access to patient information (called Protected Health Information\, or PHI). \n\nDoes your practice use Google applications like Gmail\, Google drive\, Google Docs etc.?\nDo you use Google G-suite applications to transfer PHI data?\nDoes your practice have written BAA with Google services?\n\nJoin our 50-minute webinar to learn more on how to make use of the capabilities of G-suites in your healthcare setup and still stay HIPAA compliant\,  The intended audience for this session includes privacy officers\, security officers\, compliance officers\, and Business Associates responsible for HIPAA Act implementation and compliance. \n \n 
URL:https://databrackets.com/event/hipaa-hardening-for-g-suite/
LOCATION:Virtual
CATEGORIES:Webinars
ATTACH;FMTTYPE=image/jpeg:https://databrackets.com/wp-content/uploads/2022/05/Compliance.jpeg
ORGANIZER;CN="databrackets":MAILTO:info@databrackets.com
END:VEVENT
BEGIN:VEVENT
DTSTART;TZID=America/New_York:20180322T130000
DTEND;TZID=America/New_York:20180322T140000
DTSTAMP:20260420T175229
CREATED:20180305T120636Z
LAST-MODIFIED:20260206T075200Z
UID:49013-1521723600-1521727200@databrackets.com
SUMMARY:Modern IT for Small Healthcare Practices
DESCRIPTION:Over the past several years\, most of the modern healthcare practices have implemented the EHR/EMR and its byproducts. In addition\, there is a strong technology demand to implement cloud-based software as a service model\, telemedicine\, population health using data analytics and health information exchange to share data with third parties.\n This 50-minute session will highlight some of the technology best practices that small to medium-size healthcare practices can easily adapt to stay efficient\, compliant and competitive.
URL:https://databrackets.com/event/modern-small-healthcare-practices/
LOCATION:Virtual
CATEGORIES:Webinars
ATTACH;FMTTYPE=image/jpeg:https://databrackets.com/wp-content/uploads/2022/05/laptop-1385702_640.jpeg
END:VEVENT
BEGIN:VEVENT
DTSTART;TZID=America/New_York:20171025T130000
DTEND;TZID=America/New_York:20171025T140000
DTSTAMP:20260420T175229
CREATED:20171007T111451Z
LAST-MODIFIED:20260206T074418Z
UID:48962-1508936400-1508940000@databrackets.com
SUMMARY:HIPAA Hardening for Microsoft Azure Cloud Hosting
DESCRIPTION:HIPAA and the HITECH Act applies to most doctors’ offices\, hospitals\, health insurance companies\, and other companies that may have access to patient information (called Protected Health Information\, or PHI). If you use a cloud-based service such as Microsoft Azure\, Microsoft must agree in a written agreement to adhere to certain security and privacy compliance provisions set out in HIPAA and the HITECH Act. \nWhile Microsoft Azure includes features to help enable customers’ privacy and security compliance\, customers are responsible for ensuring their particular use of Azure complies with HIPAA\, the HITECH Act\, and other applicable state laws and regulations. \nJoin our webinar to learn how to assist organizations interested in hardening Azure services and to understand the relevant capabilities of Microsoft Azure. The intended audience for this session includes privacy officers\, security officers\, compliance officers\, and Business Associates responsible for HIPAA and HITECH Act implementation and compliance.
URL:https://databrackets.com/event/hipaa-hardening-for-microsoft-azure-cloud-hosting/
LOCATION:Virtual
CATEGORIES:Webinars
ATTACH;FMTTYPE=image/jpeg:https://databrackets.com/wp-content/uploads/2022/05/azure-cloud-services-event.jpg
ORGANIZER;CN="EHR 2.0":MAILTO:info@ehr20.com
END:VEVENT
BEGIN:VEVENT
DTSTART;TZID=America/New_York:20170817T130000
DTEND;TZID=America/New_York:20170817T140000
DTSTAMP:20260420T175229
CREATED:20170805T105821Z
LAST-MODIFIED:20260206T074035Z
UID:49010-1502974800-1502978400@databrackets.com
SUMMARY:HIPAA: How to Comply With Limited Time & Resources
DESCRIPTION:In this one-hour live webinar\, Jonathan Pantenburg will provide an overview of the Health Insurance Portability and Accountability Act\, with an emphasis on the critical balance between protecting patient health information and sustaining operations as a healthcare entity. Jonathan will review\, at a high level\, risk assessments\, OCR audits\, safeguarding PHI\, breach protocol/penalties\, the most common HIPAA violations\, and covered entity/business associate agreements – while relaying how small and medium-sized healthcare practices can comply with HIPAA in the most effective and cost-efficient manner. \nAudience: Healthcare organizations involved in direct medical treatment of patients.
URL:https://databrackets.com/event/hipaa-comply-limited-time-resources/
LOCATION:Virtual
CATEGORIES:Webinars
ATTACH;FMTTYPE=image/jpeg:https://databrackets.com/wp-content/uploads/2022/05/HC-Product-Vendor-v1.jpeg
END:VEVENT
BEGIN:VEVENT
DTSTART;TZID=America/New_York:20170406T120000
DTEND;TZID=America/New_York:20170406T133000
DTSTAMP:20260420T175229
CREATED:20170406T072553Z
LAST-MODIFIED:20260206T074641Z
UID:48359-1491480000-1491485400@databrackets.com
SUMMARY:Managing the Risks of a Healthcare Data Breach
DESCRIPTION:The HIPAA data breach violations are on the rise. The HIPAA Breach Notification Rule\, 45 CFR §§ 164.400-414\, requires HIPAA-covered entities and their business associates to provide notification following a breach of unsecured protected health information. Similar breach notification provisions implemented and enforced by the Federal Trade Commission (FTC)\, apply to vendors of personal health records and their third party service providers\, pursuant to section 13407 of the HITECH Act \n– Do you have a complete understanding of the new HIPAA breach notification requirements? \n– Does your practice have written policies and procedures for incident response and breach notification? \n– Do you understand the data breach risk assessment requirements? \n– What are the symptoms of a data breach? \n– Where your mitigation efforts should be focused? \n– Are you familiar with HIPAA Violation classification? \n– Do you know the HIPAA violation penalty structure? \nHHS’ Office for Civil Rights (OCR) is becoming more aggressive in enforcing HIPAA regulations. HHS recorded over $20  million in settlement payments in 2016. As HIPAA audits and data breach reporting incidents ramp up\, physician practices\, hospitals\, and health care agencies are bolstering safeguards and security practices to avoid multimillion dollar fines. \nJoin our 90-minute webinar session to understand\, implement and comply with the new HIPAA data breach regulation. \nEarn one-hour educational credit upon completion. Email: info@ehr20.com. \nPrice: $49
URL:https://databrackets.com/event/hipaa-violation-and-data-breach/
LOCATION:Virtual
CATEGORIES:Webinars
ATTACH;FMTTYPE=image/jpeg:https://databrackets.com/wp-content/uploads/2022/04/Healthcare-Data-Breach-header.jpg
ORGANIZER;CN="EHR 2.0":MAILTO:info@ehr20.com
END:VEVENT
BEGIN:VEVENT
DTSTART;TZID=America/New_York:20160211T120000
DTEND;TZID=America/New_York:20160211T130000
DTSTAMP:20260420T175229
CREATED:20160211T081337Z
LAST-MODIFIED:20260206T075255Z
UID:48355-1455192000-1455195600@databrackets.com
SUMMARY:Online Reputation Management for the Busy Healthcare Practice
DESCRIPTION:“It takes 20 years to build a reputation and five minutes to ruin it. If you think about that\, you’ll do things differently.” – Warren Buffett \nManaging your professional and practice reputation has become much more challenging in the age of the internet. A difference of one star in an online review has been shown to impact revenue potential from 5 to 9%.  There’s more to reputation management than having a LinkedIn profile and a Facebook page (although that’s important). In this EHR 2.0 webinar\, Get Social Health social media coach Janet Kennedy will walk you through the basics of establishing\, maintaining and protecting the online reputation of your practice and providers. \nAttend our free\, live 50-minute webinar which will focus on the best practices to keep up your online  reputation and to avoid the pitfalls that damages you.
URL:https://databrackets.com/event/online-reputation-management-for-the-busy-healthcare-practice/
LOCATION:Virtual
CATEGORIES:Webinars
ATTACH;FMTTYPE=image/jpeg:https://databrackets.com/wp-content/uploads/2022/04/Online-Reputation-Management-header.jpg
ORGANIZER;CN="EHR 2.0":MAILTO:info@ehr20.com
END:VEVENT
BEGIN:VEVENT
DTSTART;TZID=America/New_York:20150624T000000
DTEND;TZID=America/New_York:20150624T133000
DTSTAMP:20260420T175229
CREATED:20150607T102437Z
LAST-MODIFIED:20260206T075230Z
UID:49085-1435104000-1435152600@databrackets.com
SUMMARY:Online ICD-10 Implementation Training for Primary Care Practices – Basic
DESCRIPTION:The reporting of health care diagnoses and procedures for primary care physicians will be changing on October 1\, 2015\, switching from roughly 14\,000 ICD-9-CM codes to over 69\,000 ICD-10-CM codes. This role-base training session\, designed specifically for primary care setups\, will provide specific implementation guidelines and best practices to ensure the transition is smooth and that you are compliant and ready for ICD-10 rollout. You will learn the practical tools needed to create and carry out an ICD-10 implementation plan for your practice to improve physician documentation; you will also learn coding and reimbursement tools to minimize rejected claims\, along with new coding/billing guidelines. This training is a 3-part series that is designed for physicians\, nurses and other clinical staff\, practice managers and administrators\, coders\, billers\, auditors\, and other administrative staff such as front desk clerks. Learn best practices and strategies to get started and heading in the right direction. Prepare your practice today to handle the upcoming changes by attending this training session. \nPhysicians\,Nurses\, and Other Clinical Staff \n\nIncludes Starter Package\nDocumentation Guidance\nChanges for Clinical Staff\n\nCourse Duration: 75-mintue plus 15-minute Q & A \nWhat You’ll Learn:\n\nICD-10 Format and Structure\nFamily Practice Specific Changes\nCoding and Billing Guidelines\nAuditing Policies and Procedures\nReimbursement Management\nImplementation Best Practices\n\nWhat You’ll Get:\n\nUnlimited Online Access to the Course for a Year\nCertificate of Completion\nCourse Material in PDF Format\nCheat sheet\nOptional Implementation Consulting\n\n  \n \n 
URL:https://databrackets.com/event/online-icd-10-implementation-training-for-primary-care-practices-basic/
LOCATION:Virtual
CATEGORIES:Training,Webinars
ATTACH;FMTTYPE=image/jpeg:https://databrackets.com/wp-content/uploads/2022/05/ICD-10-Implementation-Training.jpg
END:VEVENT
END:VCALENDAR